BEGIN:VCALENDAR
VERSION:2.0
PRODID:-//hacksw/handcal//NONSGML v1.0//EN
BEGIN:VEVENT
SUMMARY:4eme manche de Coupe Regionale 2026  Nantes
UID:acfc73b4-fb60-4861-b7ef-ba3f7fc843d1
DTSTART:20260425T220000Z
DTEND:20260426T220000Z
LOCATION:Localisation piste bmx 44000 NANTES
CATEGORIES:Sportif
STATUS:
DESCRIPTION:<p>Bonjour,</p>
 
 <p>La 4 eme  manche de la coupe
 regionale 2026 se deroule a Nantes</p>
 
 <p>Vous pouvez d'ores et deja
 vous inscrire (les pilotes en adhesion nationale et
 regionale). </p>
 
 <p> </p>
 
 <p> </p>
URL;VALUE=URI:https://www.bmxsavenay.com/evenements/2026/04/26/4eme-manche-de-coupe-regionale-2026-nantes-2439636
END:VEVENT
END:VCALENDAR
